BEGIN:VCALENDAR
VERSION:2.0
PRODID:-//Happyride//ICalGenerator//EN
CALSCALE:GREGORIAN
METHOD:PUBLISH
X-WR-TIMEZONE:Europe/Stockholm
X-WR-CALNAME:Glan Runt på Grus
X-WR-CALDESC:Ett evenemang från Happyride.se
BEGIN:VEVENT
UID:happyride.se_69eb7e34479f69.14594422
SUMMARY:Glan Runt på Grus
DTSTART:20260613T100000
DTEND:20260613T120000
DESCRIPTION:Så är det dags för event nummer tre i Velonavia Gravel Series\; Glan Runt på Grus (#grg). Ca 80 % grus\, inklusive några korta stigsnuttar. Någon överraskning kanske!\n\nNär: lördagen den 13:e juli\, kl 10:00\n\nVar: Norrköpings Mässhallar\n\nRutt: presenteras veckan innan https://happyride.se/kalender/4556/
URL:https://happyride.se/kalender/4556/
END:VEVENT
END:VCALENDAR
