BEGIN:VCALENDAR
VERSION:2.0
PRODID:-//Happyride//ICalGenerator//EN
CALSCALE:GREGORIAN
METHOD:PUBLISH
X-WR-TIMEZONE:Europe/Stockholm
X-WR-CALNAME:CloisterCross
X-WR-CALDESC:Ett evenemang från Happyride.se
BEGIN:VEVENT
UID:happyride.se_69eca0ccde9f74.37099173
SUMMARY:CloisterCross
DTSTART:20260808T100000
DTEND:20260808T120000
DESCRIPTION:#4 av Velonavian Gravel Series 2026. Även denna gång är det fina Kolmården som besöks. En 115 km social ride nu i sensommar\, kortare alternativ finns. Mer info och bansträckning kommer senare\, men jag kan avslöja att vi bland annat kommer cykla längs Nunnebanan.\n\nNär: lördagen den 8 augusti kl 10:00\nVar: Åby\nParkering: gratis parkering finns vid Åby Arena/Åby bibliotek ca 200 m söder om startplatsen. Vid Åby C finns betalparkering. Obs! Vid Coop gäller p-skiva max 3 timmar!\nDistans: Abbedissan ca 115 km. Aspiranten ca 72 km.\nExakta rutter kommer veckan innan\nMen eftersom rutten har 3 st ~10 km loopar\; Bethlehemsloopen\, Nunnebanan och Viråvarvet som snuddar varandra är det lätt att korta av\, alternativt köra en blandning av dessa.\nFör alla event inom ramen av Velonavian Gravel Series gäller: allt deltagande sker på egen risk. Eventen är varken tävlingar eller lopp\, utan social cykling. Vi cyklar på i huvudsak grusvägar med liten eller ingen biltrafik. Dock gäller allmänna trafikregler! Visa hänsyn till medcyklister och trafikanter. Eventen är o-supporterade. Ta med slang och pump. Ladda gärna ner 112-appen. https://happyride.se/kalender/4557/
URL:https://happyride.se/kalender/4557/
END:VEVENT
END:VCALENDAR
