BEGIN:VCALENDAR
VERSION:2.0
PRODID:-//Happyride//ICalGenerator//EN
CALSCALE:GREGORIAN
METHOD:PUBLISH
X-WR-TIMEZONE:Europe/Stockholm
X-WR-CALNAME:Tour de Ville
X-WR-CALDESC:Ett evenemang från Happyride.se
BEGIN:VEVENT
UID:happyride.se_69eb8d2f048d21.17643770
SUMMARY:Tour de Ville
DTSTART:20261003T100000
DTEND:20261003T120000
DESCRIPTION:Vi är nu inne på det nionde året av grusvägscykling här i Norrköpingstrakten! Givetvis så ska säsongen avslutas traditionsenligt\, med Tour de Ville\, kanske Sveriges äldsta "gravelevent"?\n\nOBS!!! Vi startar vid Stadstornet. Centralt finns parkeringshus/platser för de som kommer med bil. Det är ca 3 minuters cykelväg från Norrköpings centralstation om ni kommer med pendel eller tåg.\n\nNär: lördagen den 3 oktober\, kl 10:00\n\nVar: Stadstornet\, S:t Olai Kyrka\, Norrköping\n\nAfterBike @burgers'n'bangers\n\nDistans: ca 75 km. Rutten presenteras veckan innan\n\nEftersom rutten går "stadsnära" är det lätt att korta av dagen om ca 75 km känns för långt. Efter cykling tar vi en burgare och öl\, om ni så vill\, på Burgers n Bangers på Trädgårdsgatan. Ta med ett lås till cykeln. Med fördel så låser ni fast det utanför restaurangen innan start. https://happyride.se/kalender/4558/
URL:https://happyride.se/kalender/4558/
END:VEVENT
END:VCALENDAR
