BEGIN:VCALENDAR
VERSION:2.0
PRODID:-//Happyride//ICalGenerator//EN
CALSCALE:GREGORIAN
METHOD:PUBLISH
X-WR-TIMEZONE:Europe/Stockholm
X-WR-CALNAME:Onsdagsrajd delsjön
X-WR-CALDESC:Ett evenemang från Happyride.se
BEGIN:VEVENT
UID:happyride.se_69e99b4a824b50.24733906
SUMMARY:Onsdagsrajd delsjön
DTSTART:20251119T180000
DTEND:20251119T200000
DESCRIPTION:Första rundan med snö\, detta får man inte missa. utlovas halka\, lera och smutsig cykel\nStartar vid cykelfiket.\nrunt 2-2.5 timmas tur\nAlla är välkomna att hänga på https://happyride.se/kalender/4561/
URL:https://happyride.se/kalender/4561/
END:VEVENT
END:VCALENDAR
