BEGIN:VCALENDAR
VERSION:2.0
PRODID:-//Happyride//ICalGenerator//EN
CALSCALE:GREGORIAN
METHOD:PUBLISH
X-WR-TIMEZONE:Europe/Stockholm
X-WR-CALNAME:Täby 600 Bryggerirunda
X-WR-CALDESC:Ett evenemang från Happyride.se
BEGIN:VEVENT
UID:happyride.se_69e9ae1ac17eb0.82421338
SUMMARY:Täby 600 Bryggerirunda
DTSTART;VALUE=DATE:20260627
DESCRIPTION: https://happyride.se/kalender/4574/
URL:https://happyride.se/kalender/4574/
END:VEVENT
END:VCALENDAR
