BEGIN:VCALENDAR
VERSION:2.0
PRODID:-//Happyride//ICalGenerator//EN
CALSCALE:GREGORIAN
METHOD:PUBLISH
X-WR-TIMEZONE:Europe/Stockholm
X-WR-CALNAME:Täby 300 Saltluft
X-WR-CALDESC:Ett evenemang från Happyride.se
BEGIN:VEVENT
UID:happyride.se_69e90c2a05a248.02939680
SUMMARY:Täby 300 Saltluft
DTSTART;VALUE=DATE:20260801
DESCRIPTION: https://happyride.se/kalender/4576/
URL:https://happyride.se/kalender/4576/
END:VEVENT
END:VCALENDAR
