BEGIN:VCALENDAR
VERSION:2.0
PRODID:-//Happyride//ICalGenerator//EN
CALSCALE:GREGORIAN
METHOD:PUBLISH
X-WR-TIMEZONE:Europe/Stockholm
X-WR-CALNAME:Dirty Halland 2026
X-WR-CALDESC:Ett evenemang från Happyride.se
BEGIN:VEVENT
UID:happyride.se_69eb463613d485.24932696
SUMMARY:Dirty Halland 2026
DTSTART;VALUE=DATE:20260328
DESCRIPTION:Sen 2019 har vi drivits av att bjuda er alla på ett äventyr på grusvägar runt om i Halland. En ny runda och upplevelse varje år. 2026 går vi lite mer "back to the roots" med en rutt som utgår från Halmstad. Vi är glada att få presentera att start/mål kommer ske på Wapnö gård strax utanför Halmstad. Nytt för iår är att det kommer finnas två officiella rutter\, en kortare och en längre.\n\nMer info kommer som alltid löpande. All nödvändig info kommer finnas på teamcyklamera.com samt fb-event: https://www.facebook.com/events/1566225317968901 https://happyride.se/kalender/4580/
URL:https://happyride.se/kalender/4580/
END:VEVENT
END:VCALENDAR
