BEGIN:VCALENDAR
VERSION:2.0
PRODID:-//Happyride//ICalGenerator//EN
CALSCALE:GREGORIAN
METHOD:PUBLISH
X-WR-TIMEZONE:Europe/Stockholm
X-WR-CALNAME:Rollcall Mountainbike Retreat for Women+ (Weekend 2)
X-WR-CALDESC:Ett evenemang från Happyride.se
BEGIN:VEVENT
UID:happyride.se_69e9ae219f3cd9.06398861
SUMMARY:Rollcall Mountainbike Retreat for Women+ (Weekend 2)
DTSTART;VALUE=DATE:20260904
DTEND;VALUE=DATE:20260907
DESCRIPTION:Rollcall är en tre dagar lång mountainbike-retreat i Stockholm med fokus på guidade turer\, teknikträning\, fantastisk mat och äkta gemenskap. Du är välkommen att delta om du identifierar dig som WTFNB (kvinna\, transperson\, femme\, icke-binär). Retreaten hålls på engelska.\n\nDag 1:\n-Anländ och träffa Rollcall-teamet\, montera ihop din cykel efter resan (våra mekaniker hjälper dig att se till att allt är säkert och i ordning. Vi har reservdelar och en fullt utrustad verkstad\, ifall något inte fungerar) eller bekanta dig med din hyrcykel. Checka in i stugorna och installera dig.\n-Välkomstmöte och gemensam middag.\n-Last Light Night Ride: mestadels grus med några lätta stigar. Sverige är midnattssolens land\, men ta med dig din pannlampa ändå! Te och ”midnattsfika” efteråt.\n\nDag 2:\n-Frukost\, sedan uppvärmning i grupp och morgonavfärd. Guidade turer med inbyggda teknikpass på förmiddagen och eftermiddagen\, med lunch på Mountainbikeskolan däremellan.\n-På eftermiddagen kan du välja en workshop (hopp\, laga punktering\, rörlighet för MTB) eller ta en svensk bastu och ett dopp. Anmälan till workshop sker efter registrering..\n-På kvällen träffas vi på Kafé Källtorp för ett traditionellt svenskt smörgåsbord\, ackompanjerat av svensk folkmusik och dans.\n-Brasa vid vattnet och midnattsfika.\n\nDag 3:\n-Vakna och förbered dig för dagen med yoga för cyklister.\n-Frukost\, sedan uppvärmning i grupp och morgonavfärd. Längre cykeltur till lunch vid utsiktsplatsen. Efter lunch gör vi en guidad meditation och cyklar tyst tillbaka till Mountainbikeskolan.\n-Vi avslutar helgen med svensk fika\, cykelspel och avslutningsceremoni. (Tips: börja öva på din trackstand redan nu!)\n\nUnder hela helgen: Kläd- och utrustningsbytestation. Ta med dig nya eller lite använda cykel-/friluftskläder\, utrustning\, tillbehör\, verktyg eller delar som bara ligger och tar plats hemma hos dig! Laga en punktering = få en pris\, MTBingo\, priser\, goodiebag\, god mat\, grym stämning\, yoga OCH MYCKET MER! https://happyride.se/kalender/4583/
URL:https://happyride.se/kalender/4583/
END:VEVENT
END:VCALENDAR
