BEGIN:VCALENDAR
VERSION:2.0
PRODID:-//Happyride//ICalGenerator//EN
CALSCALE:GREGORIAN
METHOD:PUBLISH
X-WR-TIMEZONE:Europe/Stockholm
X-WR-CALNAME:Barkarby 400 Sandviken kvällsstart
X-WR-CALDESC:Ett evenemang från Happyride.se
BEGIN:VEVENT
UID:happyride.se_69e9fa511f5692.58418410
SUMMARY:Barkarby 400 Sandviken kvällsstart
DTSTART;VALUE=DATE:20260430
DESCRIPTION: https://happyride.se/kalender/4587/
URL:https://happyride.se/kalender/4587/
END:VEVENT
END:VCALENDAR
