BEGIN:VCALENDAR
VERSION:2.0
PRODID:-//Happyride//ICalGenerator//EN
CALSCALE:GREGORIAN
METHOD:PUBLISH
X-WR-TIMEZONE:Europe/Stockholm
X-WR-CALNAME:Barkarby 300 Vamos ala Öregrund
X-WR-CALDESC:Ett evenemang från Happyride.se
BEGIN:VEVENT
UID:happyride.se_69e579acb32d01.43605689
SUMMARY:Barkarby 300 Vamos ala Öregrund
DTSTART;VALUE=DATE:20260418
DESCRIPTION: https://happyride.se/kalender/4589/
URL:https://happyride.se/kalender/4589/
END:VEVENT
END:VCALENDAR
