BEGIN:VCALENDAR
VERSION:2.0
PRODID:-//Happyride//ICalGenerator//EN
CALSCALE:GREGORIAN
METHOD:PUBLISH
X-WR-TIMEZONE:Europe/Stockholm
X-WR-CALNAME:Barkarby 200 Grus
X-WR-CALDESC:Ett evenemang från Happyride.se
BEGIN:VEVENT
UID:happyride.se_69ec238ef24cd4.25522989
SUMMARY:Barkarby 200 Grus
DTSTART;VALUE=DATE:20260523
DESCRIPTION: https://happyride.se/kalender/4593/
URL:https://happyride.se/kalender/4593/
END:VEVENT
END:VCALENDAR
