BEGIN:VCALENDAR
VERSION:2.0
PRODID:-//Happyride//ICalGenerator//EN
CALSCALE:GREGORIAN
METHOD:PUBLISH
X-WR-TIMEZONE:Europe/Stockholm
X-WR-CALNAME:Barkarby 600 Rättvik ToR
X-WR-CALDESC:Ett evenemang från Happyride.se
BEGIN:VEVENT
UID:happyride.se_69eca099115c63.79944767
SUMMARY:Barkarby 600 Rättvik ToR
DTSTART;VALUE=DATE:20260530
DESCRIPTION: https://happyride.se/kalender/4594/
URL:https://happyride.se/kalender/4594/
END:VEVENT
END:VCALENDAR
