BEGIN:VCALENDAR
VERSION:2.0
PRODID:-//Happyride//ICalGenerator//EN
CALSCALE:GREGORIAN
METHOD:PUBLISH
X-WR-TIMEZONE:Europe/Stockholm
X-WR-CALNAME:Barkarby 200 Out and about in the hoods
X-WR-CALDESC:Ett evenemang från Happyride.se
BEGIN:VEVENT
UID:happyride.se_69e9fa4b7b9b22.51004160
SUMMARY:Barkarby 200 Out and about in the hoods
DTSTART;VALUE=DATE:20260627
DESCRIPTION: https://happyride.se/kalender/4599/
URL:https://happyride.se/kalender/4599/
END:VEVENT
END:VCALENDAR
