BEGIN:VCALENDAR
VERSION:2.0
PRODID:-//Happyride//ICalGenerator//EN
CALSCALE:GREGORIAN
METHOD:PUBLISH
X-WR-TIMEZONE:Europe/Stockholm
X-WR-CALNAME:Barkarby 600 6 färjor
X-WR-CALDESC:Ett evenemang från Happyride.se
BEGIN:VEVENT
UID:happyride.se_69ebe2f6e495e2.16989417
SUMMARY:Barkarby 600 6 färjor
DTSTART;VALUE=DATE:20260808
DESCRIPTION: https://happyride.se/kalender/4600/
URL:https://happyride.se/kalender/4600/
END:VEVENT
END:VCALENDAR
