BEGIN:VCALENDAR
VERSION:2.0
PRODID:-//Happyride//ICalGenerator//EN
CALSCALE:GREGORIAN
METHOD:PUBLISH
X-WR-TIMEZONE:Europe/Stockholm
X-WR-CALNAME:Barkarby 300 Tour de Afrika
X-WR-CALDESC:Ett evenemang från Happyride.se
BEGIN:VEVENT
UID:happyride.se_69eaf9c90bae64.98882648
SUMMARY:Barkarby 300 Tour de Afrika
DTSTART;VALUE=DATE:20260905
DESCRIPTION: https://happyride.se/kalender/4601/
URL:https://happyride.se/kalender/4601/
END:VEVENT
END:VCALENDAR
