BEGIN:VCALENDAR
VERSION:2.0
PRODID:-//Happyride//ICalGenerator//EN
CALSCALE:GREGORIAN
METHOD:PUBLISH
X-WR-TIMEZONE:Europe/Stockholm
X-WR-CALNAME:Barkarby 200 Järlåsarundan medsols
X-WR-CALDESC:Ett evenemang från Happyride.se
BEGIN:VEVENT
UID:happyride.se_69e90c1231bcf0.31559910
SUMMARY:Barkarby 200 Järlåsarundan medsols
DTSTART;VALUE=DATE:20260919
DESCRIPTION: https://happyride.se/kalender/4602/
URL:https://happyride.se/kalender/4602/
END:VEVENT
END:VCALENDAR
