BEGIN:VCALENDAR
VERSION:2.0
PRODID:-//Happyride//ICalGenerator//EN
CALSCALE:GREGORIAN
METHOD:PUBLISH
X-WR-TIMEZONE:Europe/Stockholm
X-WR-CALNAME:Happyrides cykeltestarhelg
X-WR-CALDESC:Ett evenemang från Happyride.se
BEGIN:VEVENT
UID:happyride.se_69ed2e0b1ab311.43250532
SUMMARY:Happyrides cykeltestarhelg
DTSTART;VALUE=DATE:20260523
DTEND;VALUE=DATE:20260525
DESCRIPTION:Lägg in årets viktigaste cykeltestar helg redan nu i almenackan. Det kommer bli en hel del nyheter så stay tuned! https://happyride.se/kalender/4612/
URL:https://happyride.se/kalender/4612/
END:VEVENT
END:VCALENDAR
