BEGIN:VCALENDAR
VERSION:2.0
PRODID:-//Happyride//ICalGenerator//EN
CALSCALE:GREGORIAN
METHOD:PUBLISH
X-WR-TIMEZONE:Europe/Stockholm
X-WR-CALNAME:Uppsala 200 km brukscykling
X-WR-CALDESC:Ett evenemang från Happyride.se
BEGIN:VEVENT
UID:happyride.se_69ed94a47ae265.16041774
SUMMARY:Uppsala 200 km brukscykling
DTSTART:20260418T090000
DTEND:20260418T110000
DESCRIPTION:Följ med på cykling förbi Nordupplands bruk och herrgårdar! Vi cyklar ut ur Uppsala förbi Halmbyboda\, och stämplar i Alunda där det finns ett fint konditori. Vi passerar anrika Österbybruk (med frivillig paus på hembageriet)\, rundar Dannemora gruva och stämplar vid vändpunkten i Lövstabruk. Hemresa via Tobo\, Örbyhus och Vendel.\n\nBåde digital stämpling och brevetkort går bra. Anmäl dig senast 24 timmar innan start om du önskar ett brevetkort på papper. Anmälan på länken nedan. https://happyride.se/kalender/4615/
URL:https://happyride.se/kalender/4615/
END:VEVENT
END:VCALENDAR
