BEGIN:VCALENDAR
VERSION:2.0
PRODID:-//Happyride//ICalGenerator//EN
CALSCALE:GREGORIAN
METHOD:PUBLISH
X-WR-TIMEZONE:Europe/Stockholm
X-WR-CALNAME:Måndagstur Delsjön GBG 23/3 18.00
X-WR-CALDESC:Ett evenemang från Happyride.se
BEGIN:VEVENT
UID:happyride.se_69e7cb74ae3721.14622369
SUMMARY:Måndagstur Delsjön GBG 23/3 18.00
DTSTART;VALUE=DATE:20260323
DESCRIPTION:Sedvanlig måndagstur. Alla välkomna. \nVi samlas på Cykelfiket Sofiagatan 18.00. \nLampa behövs åtminstone någon vecka till. https://happyride.se/kalender/4620/
URL:https://happyride.se/kalender/4620/
END:VEVENT
END:VCALENDAR
