BEGIN:VCALENDAR
VERSION:2.0
PRODID:-//Happyride//ICalGenerator//EN
CALSCALE:GREGORIAN
METHOD:PUBLISH
X-WR-TIMEZONE:Europe/Stockholm
X-WR-CALNAME:BRM 300 Västerås - Erik 14
X-WR-CALDESC:Ett evenemang från Happyride.se
BEGIN:VEVENT
UID:happyride.se_69e9ffb4421f53.52811615
SUMMARY:BRM 300 Västerås - Erik 14
DTSTART;VALUE=DATE:20260425
DESCRIPTION:Västerås - Uppsala - Örbyhus Slott - Sigtuna - Västerås.\n\nAnmälan på https://brevet.foreningsteknik.se/rides/vasteras-300-2026-04-25/ https://happyride.se/kalender/4628/
URL:https://happyride.se/kalender/4628/
END:VEVENT
END:VCALENDAR
