BEGIN:VCALENDAR
VERSION:2.0
PRODID:-//Happyride//ICalGenerator//EN
CALSCALE:GREGORIAN
METHOD:PUBLISH
X-WR-TIMEZONE:Europe/Stockholm
X-WR-CALNAME:Morsaftongravel Jädraås
X-WR-CALDESC:Ett evenemang från Happyride.se
BEGIN:VEVENT
UID:happyride.se_69eaf9a03ac9b1.00908022
SUMMARY:Morsaftongravel Jädraås
DTSTART:20260530T110000
DTEND:20260530T130000
DESCRIPTION:Då de flesta av Jädraås och övriga Gästriklands fina stigar är rätt stökiga med vindfällen efter vinterns stormar så får vi cykla på alla fina skogsvägar istället. Kolla på förödelsen i skogen men  njut av ett gott sällskap och god mat. Fart efter kamrat. https://happyride.se/kalender/4629/
URL:https://happyride.se/kalender/4629/
END:VEVENT
END:VCALENDAR
