BEGIN:VCALENDAR
VERSION:2.0
PRODID:-//Happyride//ICalGenerator//EN
CALSCALE:GREGORIAN
METHOD:PUBLISH
X-WR-TIMEZONE:Europe/Stockholm
X-WR-CALNAME:Östgötaloppet
X-WR-CALDESC:Ett evenemang från Happyride.se
BEGIN:VEVENT
UID:happyride.se_69e89b7d800459.01127898
SUMMARY:Östgötaloppet
DTSTART;VALUE=DATE:20260419
DESCRIPTION:Östgötaloppet är en landets äldsta cykeltävlingar\, första upplagan genomfördes 1925 och avgörs i år söndagen den 19:e april. Dagen innan går systerloppen Östgöta Motion och Östgötatempot.\n\nTävlingsplats: Ljungs kyrka\, tre kilometer väster om Ljungsbro https://happyride.se/kalender/4630/
URL:https://happyride.se/kalender/4630/
END:VEVENT
END:VCALENDAR
