BEGIN:VCALENDAR
VERSION:2.0
PRODID:-//Happyride//ICalGenerator//EN
CALSCALE:GREGORIAN
METHOD:PUBLISH
X-WR-TIMEZONE:Europe/Stockholm
X-WR-CALNAME:Järfälla XCO
X-WR-CALDESC:Ett evenemang från Happyride.se
BEGIN:VEVENT
UID:happyride.se_69ed2dedf30f86.84732717
SUMMARY:Järfälla XCO
DTSTART;VALUE=DATE:20260816
DESCRIPTION: https://happyride.se/kalender/4631/
URL:https://happyride.se/kalender/4631/
END:VEVENT
END:VCALENDAR
