BEGIN:VCALENDAR
VERSION:2.0
PRODID:-//Happyride//ICalGenerator//EN
CALSCALE:GREGORIAN
METHOD:PUBLISH
X-WR-TIMEZONE:Europe/Stockholm
X-WR-CALNAME:Måndagsrajd Delsjön
X-WR-CALDESC:Ett evenemang från Happyride.se
BEGIN:VEVENT
UID:happyride.se_69eb6744e20f67.54795619
SUMMARY:Måndagsrajd Delsjön
DTSTART:20260420T180000
DTEND:20260420T200000
DESCRIPTION:måndagsrajd i Delsjön. \nRunt 2.5 timmas tur\nAlla är välkomna https://happyride.se/kalender/4634/
URL:https://happyride.se/kalender/4634/
END:VEVENT
END:VCALENDAR
