BEGIN:VCALENDAR
VERSION:2.0
PRODID:-//Happyride//ICalGenerator//EN
CALSCALE:GREGORIAN
METHOD:PUBLISH
X-WR-TIMEZONE:Europe/Stockholm
X-WR-CALNAME:linköping 200km
X-WR-CALDESC:Ett evenemang från Happyride.se
BEGIN:VEVENT
UID:happyride.se_69e760ccbdccb9.43290564
SUMMARY:linköping 200km
DTSTART;VALUE=DATE:20140426
DESCRIPTION:jaha dax igen 20mil i Östergötland\, se våren från cykelsadeln\, kan det bli bättre\nanmälan senast fredag kl 16 till mig eller henrik \nse mer info på Ck Hymers hemsida https://happyride.se/kalender/928/
URL:https://happyride.se/kalender/928/
END:VEVENT
END:VCALENDAR
