BEGIN:VCALENDAR
VERSION:2.0
PRODID:-//Happyride//ICalGenerator//EN
CALSCALE:GREGORIAN
METHOD:PUBLISH
X-WR-TIMEZONE:Europe/Stockholm
X-WR-CALNAME:ROSE DEMODAG\, Hellasgården
X-WR-CALDESC:Ett evenemang från Happyride.se
BEGIN:VEVENT
UID:happyride.se_69eb54eb72afe5.95183658
SUMMARY:ROSE DEMODAG\, Hellasgården
DTSTART:20140525T120000
DTEND:20140525T140000
DESCRIPTION:Kom och provcykla Rose-cyklar! https://happyride.se/kalender/949/
URL:https://happyride.se/kalender/949/
END:VEVENT
END:VCALENDAR
