BEGIN:VCALENDAR
VERSION:2.0
PRODID:-//Happyride//ICalGenerator//EN
CALSCALE:GREGORIAN
METHOD:PUBLISH
X-WR-TIMEZONE:Europe/Stockholm
X-WR-CALNAME:ROSE DEMODAG\, Skatås
X-WR-CALDESC:Ett evenemang från Happyride.se
BEGIN:VEVENT
UID:happyride.se_69ebfb805f3035.67684784
SUMMARY:ROSE DEMODAG\, Skatås
DTSTART:20140527T150000
DTEND:20140527T170000
DESCRIPTION:Kom och testa Rose-cyklar kl. 15-19 vid Skatås! https://happyride.se/kalender/950/
URL:https://happyride.se/kalender/950/
END:VEVENT
END:VCALENDAR
