BEGIN:VCALENDAR
VERSION:2.0
PRODID:-//Happyride//ICalGenerator//EN
CALSCALE:GREGORIAN
METHOD:PUBLISH
X-WR-TIMEZONE:Europe/Stockholm
X-WR-CALNAME:ROSE DEMODAG\, Rocklunda\, Västerås
X-WR-CALDESC:Ett evenemang från Happyride.se
BEGIN:VEVENT
UID:happyride.se_69ea362a2b8582.11307848
SUMMARY:ROSE DEMODAG\, Rocklunda\, Västerås
DTSTART:20140529T120000
DTEND:20140529T140000
DESCRIPTION:Kom och provkör Rose-cyklar vid Rocklunda kl. 12-16. Parkeringen utanför ABB Arena Nord. https://happyride.se/kalender/951/
URL:https://happyride.se/kalender/951/
END:VEVENT
END:VCALENDAR
